BEGIN:VCALENDAR
VERSION:2.0
PRODID:-//85.25.137.19//NONSGML kigkonsult.se iCalcreator 2.20//
CALSCALE:GREGORIAN
METHOD:PUBLISH
X-WR-TIMEZONE:Europe/Berlin
BEGIN:VEVENT
UID:event19@BAV
DTSTAMP:20260421T075656Z
CATEGORIES:BAV-Tagung
DESCRIPTION:Argelander-Tagung\nCategory: BAV-Tagung\nLink: http://169ea366-
 983f-45d0-be36-e720b2875256.bav-astro.eu/index.php?option=com_jem&view=eve
 nt&id=19:argelander-tagung\n
DTSTART;TZID=Europe/Berlin:20191122T150000
DTEND;TZID=Europe/Berlin:20191123T180000
LOCATION:Bornheim\,Adenauerallee 50\,53332 Bornheim
SUMMARY:Argelander-Tagung
URL:http://169ea366-983f-45d0-be36-e720b2875256.bav-astro.eu/index.php?opti
 on=com_jem&view=event&id=19:argelander-tagung
END:VEVENT
END:VCALENDAR